View In:
ArcGIS JavaScript
ArcGIS Online Map Viewer
ArcGIS Earth
Service Description: Spring 2024
Name: AerialPhotography2023Spring_Mercator
Description: Spring 2024
Single Fused Map Cache: false
Extent:
XMin: -7919035.012800001
YMin: 5204398.7352
XMax: -7916399.4834
YMax: 5207465.404200001
Spatial Reference: 102100
(3857)
LatestVCSWkid(0)
Initial Extent:
XMin: -7919035.012800001
YMin: 5204398.7352
XMax: -7916399.4834
YMax: 5207465.404200001
Spatial Reference: 102100
(3857)
LatestVCSWkid(0)
Full Extent:
XMin: -7919035.012800001
YMin: 5204398.7352
XMax: -7916399.4834
YMax: 5207465.404200001
Spatial Reference: 102100
(3857)
LatestVCSWkid(0)
Pixel Size X: 0.07620000000001008
Pixel Size Y: 0.07620000000001721
Band Count: 3
Pixel Type: U8
RasterFunction Infos: {"rasterFunctionInfos": [{
"name": "None",
"description": "",
"help": ""
}]}
Mensuration Capabilities: Basic
Inspection Capabilities:
Has Histograms: true
Has Colormap: false
Has Multi Dimensions : false
Rendering Rule:
Min Scale: 0
Max Scale: 0
Copyright Text:
Service Data Type: esriImageServiceDataTypeRGB
Min Values: 0, 0, 0
Max Values: 255, 255, 255
Mean Values: 137.63872706581145, 128.65640448566177, 118.89836066627446
Standard Deviation Values: 60.497758818406716, 57.720532878625235, 56.49034143997711
Object ID Field:
Fields:
None
Default Mosaic Method: Center
Allowed Mosaic Methods:
SortField:
SortValue: null
Mosaic Operator: First
Default Compression Quality: 75
Default Resampling Method: Bilinear
Max Record Count: null
Max Image Height: 4100
Max Image Width: 15000
Max Download Image Count: null
Max Mosaic Image Count: null
Allow Raster Function: true
Allow Copy: true
Allow Analysis: true
Allow Compute TiePoints: false
Supports Statistics: false
Supports Advanced Queries: false
Use StandardizedQueries: true
Raster Type Infos:
Name: Raster Dataset
Description: Supports all ArcGIS Raster Datasets
Help:
Has Raster Attribute Table: false
Edit Fields Info: null
Ownership Based AccessControl For Rasters: null
Child Resources:
Info
Histograms
Statistics
Key Properties
Legend
Raster Function Infos
Supported Operations:
Export Image
Identify
Measure
Compute Histograms
Compute Statistics Histograms
Get Samples
Compute Class Statistics
Query Boundary
Compute Pixel Location
Compute Angles
Validate
Project