View In:
ArcGIS JavaScript
ArcGIS Online Map Viewer
ArcGIS Earth
Service Description: AerialPhotography2022Spring_Mercator
Name: AerialPhotography2022Spring_Mercator
Description:
Single Fused Map Cache: false
Extent:
XMin: -7919374.56928484
YMin: 5204392.030483663
XMax: -7916317.04591742
YMax: 5207470.7318027
Spatial Reference: 102100
(3857)
LatestVCSWkid(0)
Initial Extent:
XMin: -7919374.56928484
YMin: 5204392.030483663
XMax: -7916317.04591742
YMax: 5207470.7318027
Spatial Reference: 102100
(3857)
LatestVCSWkid(0)
Full Extent:
XMin: -7919374.56928484
YMin: 5204392.030483663
XMax: -7916317.04591742
YMax: 5207470.7318027
Spatial Reference: 102100
(3857)
LatestVCSWkid(0)
Pixel Size X: 0.08679488368069489
Pixel Size Y: 0.08679488368066887
Band Count: 3
Pixel Type: U8
RasterFunction Infos: {"rasterFunctionInfos": [{
"name": "None",
"description": "",
"help": ""
}]}
Mensuration Capabilities: Basic
Inspection Capabilities:
Has Histograms: true
Has Colormap: false
Has Multi Dimensions : false
Rendering Rule:
Min Scale: 0
Max Scale: 0
Copyright Text:
Service Data Type: esriImageServiceDataTypeRGB
Min Values: 0, 0, 0
Max Values: 255, 255, 255
Mean Values: 136.67079206751612, 126.36802005165755, 116.17106448598187
Standard Deviation Values: 61.53417825688406, 58.26870843298437, 56.5094787117198
Object ID Field:
Fields:
None
Default Mosaic Method: Center
Allowed Mosaic Methods:
SortField:
SortValue: null
Mosaic Operator: First
Default Compression Quality: 75
Default Resampling Method: Bilinear
Max Record Count: null
Max Image Height: 4100
Max Image Width: 15000
Max Download Image Count: null
Max Mosaic Image Count: null
Allow Raster Function: true
Allow Copy: true
Allow Analysis: true
Allow Compute TiePoints: false
Supports Statistics: false
Supports Advanced Queries: false
Use StandardizedQueries: true
Raster Type Infos:
Name: Raster Dataset
Description: Supports all ArcGIS Raster Datasets
Help:
Has Raster Attribute Table: false
Edit Fields Info: null
Ownership Based AccessControl For Rasters: null
Child Resources:
Info
Histograms
Statistics
Key Properties
Legend
Raster Function Infos
Supported Operations:
Export Image
Identify
Measure
Compute Histograms
Compute Statistics Histograms
Get Samples
Compute Class Statistics
Query Boundary
Compute Pixel Location
Compute Angles
Validate
Project